BEGIN:VCALENDAR
VERSION:2.0
PRODID:-//Pendleton School District - ECPv6.13.0//NONSGML v1.0//EN
CALSCALE:GREGORIAN
METHOD:PUBLISH
X-WR-CALNAME:Pendleton School District
X-ORIGINAL-URL:https://pendleton.k12.or.us
X-WR-CALDESC:Events for Pendleton School District
REFRESH-INTERVAL;VALUE=DURATION:PT1H
X-Robots-Tag:noindex
X-PUBLISHED-TTL:PT1H
BEGIN:VTIMEZONE
TZID:America/Los_Angeles
BEGIN:DAYLIGHT
TZOFFSETFROM:-0800
TZOFFSETTO:-0700
TZNAME:PDT
DTSTART:20210314T100000
END:DAYLIGHT
BEGIN:STANDARD
TZOFFSETFROM:-0700
TZOFFSETTO:-0800
TZNAME:PST
DTSTART:20211107T090000
END:STANDARD
END:VTIMEZONE
BEGIN:VEVENT
DTSTART;TZID=America/Los_Angeles:20210510T180000
DTEND;TZID=America/Los_Angeles:20210510T200000
DTSTAMP:20260419T233658
CREATED:20200714T214619Z
LAST-MODIFIED:20200714T214619Z
UID:10000401-1620669600-1620676800@pendleton.k12.or.us
SUMMARY:Board Meeting
DESCRIPTION:The Pendleton School District Board of Directors will meet for a Regular Board Meeting in the District Office Board Room.  The board agenda/packet can be viewed on the district website.
URL:https://pendleton.k12.or.us/event/board-meeting-10/
CATEGORIES:District Wide
END:VEVENT
BEGIN:VEVENT
DTSTART;TZID=America/Los_Angeles:20210517T080000
DTEND;TZID=America/Los_Angeles:20210517T170000
DTSTAMP:20260419T233658
CREATED:20200915T163323Z
LAST-MODIFIED:20201016T151319Z
UID:10000423-1621238400-1621270800@pendleton.k12.or.us
SUMMARY:Parents Night
DESCRIPTION:Join us to learn strategies that are used in our classrooms to support the Social Emotional Learning (SEL) of all students and adults.  During these sessions\, we will provide make and takes to use at home.  As each date approaches\, your child’s teacher will be sending out more information. \nSeptember 21\, 2020 – Introduction\nOctober 19\, 2020 –  (Canceled)\nNovember 16\, 2020 – Composure\nJanuary 11\, 2021 – Assertiveness\nFebruary 8\, 2021 – Encouragement\nMarch 15\, 2021 – Choices\nApril 19\, 2021 – Empathy\nMay 17\, 2021 – Positive Intent \nEach session will be from 6 pm – 7 pm.
URL:https://pendleton.k12.or.us/event/parents-night-7/
CATEGORIES:District Wide
END:VEVENT
BEGIN:VEVENT
DTSTART;TZID=America/Los_Angeles:20210526T190000
DTEND;TZID=America/Los_Angeles:20210526T200000
DTSTAMP:20260419T233658
CREATED:20210507T143704Z
LAST-MODIFIED:20210507T170544Z
UID:10000348-1622055600-1622059200@pendleton.k12.or.us
SUMMARY:Scholarship Recognition Night
DESCRIPTION:Graduates who have won scholarships will be recognized.\nHappy Canyon Arena @ 7:00 pm\nParents are welcome to attend.
URL:https://pendleton.k12.or.us/event/scholarship-recognition-night/
END:VEVENT
BEGIN:VEVENT
DTSTART;VALUE=DATE:20210527
DTEND;VALUE=DATE:20210528
DTSTAMP:20260419T233658
CREATED:20210114T214730Z
LAST-MODIFIED:20210114T214730Z
UID:10000433-1622073600-1622159999@pendleton.k12.or.us
SUMMARY:Seniors Last Day
DESCRIPTION:Last day for the senior class of 2021.  Congratulations!
URL:https://pendleton.k12.or.us/event/seniors-last-day-2/
END:VEVENT
BEGIN:VEVENT
DTSTART;TZID=America/Los_Angeles:20210527T190000
DTEND;TZID=America/Los_Angeles:20210527T200000
DTSTAMP:20260419T233658
CREATED:20210507T143919Z
LAST-MODIFIED:20210507T170624Z
UID:10000349-1622142000-1622145600@pendleton.k12.or.us
SUMMARY:Baccalaureate
DESCRIPTION:Happy Canyon Arena @ 7:00 pm.\nParents are welcome to attend.
URL:https://pendleton.k12.or.us/event/baccalaureate-2/
END:VEVENT
BEGIN:VEVENT
DTSTART;TZID=America/Los_Angeles:20210529T100000
DTEND;TZID=America/Los_Angeles:20210529T120000
DTSTAMP:20260419T233658
CREATED:20210114T215119Z
LAST-MODIFIED:20210507T142651Z
UID:10000434-1622282400-1622289600@pendleton.k12.or.us
SUMMARY:PHS Graduation
DESCRIPTION:Graduation for Class of 2021 \nRound-Up Grounds @ 10:00 \nNO tickets required.
URL:https://pendleton.k12.or.us/event/phs-graduation/
END:VEVENT
BEGIN:VEVENT
DTSTART;VALUE=DATE:20210531
DTEND;VALUE=DATE:20210601
DTSTAMP:20260419T233658
CREATED:20210114T214601Z
LAST-MODIFIED:20210114T214601Z
UID:10000432-1622419200-1622505599@pendleton.k12.or.us
SUMMARY:Memorial Day - No School
DESCRIPTION:
URL:https://pendleton.k12.or.us/event/memorial-day-no-school/
END:VEVENT
END:VCALENDAR