BEGIN:VCALENDAR
VERSION:2.0
PRODID:-//Pendleton School District - ECPv6.13.0//NONSGML v1.0//EN
CALSCALE:GREGORIAN
METHOD:PUBLISH
X-ORIGINAL-URL:https://pendleton.k12.or.us
X-WR-CALDESC:Events for Pendleton School District
REFRESH-INTERVAL;VALUE=DURATION:PT1H
X-Robots-Tag:noindex
X-PUBLISHED-TTL:PT1H
BEGIN:VTIMEZONE
TZID:America/Los_Angeles
BEGIN:DAYLIGHT
TZOFFSETFROM:-0800
TZOFFSETTO:-0700
TZNAME:PDT
DTSTART:20250309T100000
END:DAYLIGHT
BEGIN:STANDARD
TZOFFSETFROM:-0700
TZOFFSETTO:-0800
TZNAME:PST
DTSTART:20251102T090000
END:STANDARD
END:VTIMEZONE
BEGIN:VEVENT
DTSTART;VALUE=DATE:20250303
DTEND;VALUE=DATE:20250304
DTSTAMP:20260423T152437
CREATED:20240314T191920Z
LAST-MODIFIED:20240314T191920Z
UID:10000928-1740960000-1741046399@pendleton.k12.or.us
SUMMARY:1 Hour Late Start
DESCRIPTION:
URL:https://pendleton.k12.or.us/event/1-hour-late-start/2025-03-03/
CATEGORIES:District Wide
END:VEVENT
BEGIN:VEVENT
DTSTART;TZID=America/Los_Angeles:20250303T154500
DTEND;TZID=America/Los_Angeles:20250303T200000
DTSTAMP:20260423T152437
CREATED:20250217T184456Z
LAST-MODIFIED:20250217T184958Z
UID:10000982-1741016700-1741032000@pendleton.k12.or.us
SUMMARY:Secondary Conferences
DESCRIPTION:Monday March 3rd\n\nK-5 = No conferences\ngr. 6-8 = 3:45 pm – 8:00 pm\n\ngr. 9-12 = 4:00 pm – 7:00 pm
URL:https://pendleton.k12.or.us/event/secondary-conferences-2/
CATEGORIES:District Wide
END:VEVENT
BEGIN:VEVENT
DTSTART;TZID=America/Los_Angeles:20250304T080000
DTEND;TZID=America/Los_Angeles:20250304T090000
DTSTAMP:20260423T152437
CREATED:20240729T165620Z
LAST-MODIFIED:20240729T165620Z
UID:10000956-1741075200-1741078800@pendleton.k12.or.us
SUMMARY:Board Work Session
DESCRIPTION:Meets in the District Office boardroom
URL:https://pendleton.k12.or.us/event/board-work-session-23/2025-03-04/
CATEGORIES:District Wide
END:VEVENT
BEGIN:VEVENT
DTSTART;TZID=America/Los_Angeles:20250304T153000
DTEND;TZID=America/Los_Angeles:20250304T193000
DTSTAMP:20260423T152437
CREATED:20240314T183340Z
LAST-MODIFIED:20250217T184637Z
UID:10000789-1741102200-1741116600@pendleton.k12.or.us
SUMMARY:Elementary Conferences
DESCRIPTION:Tuesday March 4th\nK-5 = 3:30 pm – 7:30 pm\n6-12 = No conferences
URL:https://pendleton.k12.or.us/event/conferences-3/
CATEGORIES:District Wide
END:VEVENT
BEGIN:VEVENT
DTSTART;TZID=America/Los_Angeles:20250304T163000
DTEND;TZID=America/Los_Angeles:20250306T183000
DTSTAMP:20260423T152437
CREATED:20241217T232235Z
LAST-MODIFIED:20250123T215338Z
UID:10001026-1741105800-1741285800@pendleton.k12.or.us
SUMMARY:Kindergarten Registration
DESCRIPTION:Time to register your incoming kindergarten students at Family Night/Spring Conferences at the PELC.
URL:https://pendleton.k12.or.us/event/kindergarten-registration-15/
CATEGORIES:Early Learning Center
END:VEVENT
BEGIN:VEVENT
DTSTART;TZID=America/Los_Angeles:20250305T153000
DTEND;TZID=America/Los_Angeles:20250305T200000
DTSTAMP:20260423T152437
CREATED:20240806T183242Z
LAST-MODIFIED:20240806T204120Z
UID:10001031-1741188600-1741204800@pendleton.k12.or.us
SUMMARY:Secondary Conferences
DESCRIPTION:Kindergarten – Grade 5\nEvening Parent/Teacher conferences.
URL:https://pendleton.k12.or.us/event/secondary-conferences/
CATEGORIES:District Wide
END:VEVENT
BEGIN:VEVENT
DTSTART;TZID=America/Los_Angeles:20250305T160000
DTEND;TZID=America/Los_Angeles:20250305T201500
DTSTAMP:20260423T152437
CREATED:20250217T184745Z
LAST-MODIFIED:20250217T184754Z
UID:10000983-1741190400-1741205700@pendleton.k12.or.us
SUMMARY:Secondary Conferences
DESCRIPTION:Wednesday March 5th\n\n\nK-5 = No conferences\ngr. 6-8 = 4:00 pm – 7:00 pm\n\ngr. 9-12 = 4:00 pm – 8:15 pm
URL:https://pendleton.k12.or.us/event/secondary-conferences-3/
CATEGORIES:District Wide
END:VEVENT
BEGIN:VEVENT
DTSTART;TZID=America/Los_Angeles:20250305T163000
DTEND;TZID=America/Los_Angeles:20250305T183000
DTSTAMP:20260423T152437
CREATED:20250307T172742Z
LAST-MODIFIED:20250307T172742Z
UID:10001033-1741192200-1741199400@pendleton.k12.or.us
SUMMARY:Family Night
DESCRIPTION:The PELC is hosting a Family Night featuring a Book Fair & Free Dinner!
URL:https://pendleton.k12.or.us/event/family-night-9/
CATEGORIES:Early Learning Center
END:VEVENT
BEGIN:VEVENT
DTSTART;TZID=America/Los_Angeles:20250306T153000
DTEND;TZID=America/Los_Angeles:20250306T191500
DTSTAMP:20260423T152437
CREATED:20240314T183427Z
LAST-MODIFIED:20250217T184853Z
UID:10000790-1741275000-1741288500@pendleton.k12.or.us
SUMMARY:Elementary Conferences
DESCRIPTION:Thursday March 6th\n\nK-5 = 3:30 pm – 7:15 pm\n6-12 = No conferences
URL:https://pendleton.k12.or.us/event/conferences-4/
CATEGORIES:District Wide
END:VEVENT
BEGIN:VEVENT
DTSTART;VALUE=DATE:20250307
DTEND;VALUE=DATE:20250308
DTSTAMP:20260423T152437
CREATED:20240314T183530Z
LAST-MODIFIED:20240314T183530Z
UID:10000791-1741305600-1741391999@pendleton.k12.or.us
SUMMARY:No School - In-Service
DESCRIPTION:No school due to regional in-service.
URL:https://pendleton.k12.or.us/event/no-school-in-service-3/
CATEGORIES:District Wide
END:VEVENT
END:VCALENDAR